BEGIN:VCALENDAR
VERSION:2.0
PRODID:-//Delphine Blanc - ECPv6.3.3//NONSGML v1.0//EN
CALSCALE:GREGORIAN
METHOD:PUBLISH
X-WR-CALNAME:Delphine Blanc
X-ORIGINAL-URL:https://delphine-blanc.com
X-WR-CALDESC:Évènements pour Delphine Blanc
REFRESH-INTERVAL;VALUE=DURATION:PT1H
X-Robots-Tag:noindex
X-PUBLISHED-TTL:PT1H
BEGIN:VTIMEZONE
TZID:Europe/Paris
BEGIN:DAYLIGHT
TZOFFSETFROM:+0100
TZOFFSETTO:+0200
TZNAME:CEST
DTSTART:20220327T010000
END:DAYLIGHT
BEGIN:STANDARD
TZOFFSETFROM:+0200
TZOFFSETTO:+0100
TZNAME:CET
DTSTART:20221030T010000
END:STANDARD
END:VTIMEZONE
BEGIN:VEVENT
DTSTART;TZID=Europe/Paris:20220409T180000
DTEND;TZID=Europe/Paris:20220409T200000
DTSTAMP:20260420T101847
CREATED:20220602T151711Z
LAST-MODIFIED:20231026T090801Z
UID:4028-1649527200-1649534400@delphine-blanc.com
SUMMARY:IGNITE YOUR SACRED INNER FIRE
DESCRIPTION:For this second event\, Kallia and Delphine are inviting you for a vibrant inner journey working with the fire element\, Gong and Light Language vibrations. \n  \nThe energies of the season are inviting us to fuel our sacred inner fire and make the changes our heart and soul are calling for. It is a beautiful moment to connect with what brings us joy and lights us up and use that energy as a fuel to get out of our comfort zone to make the bold moves\, start the projects\, or have the conversations that are deeply needed to your being. \n  \nWe will be working in ceremony with the fire element and activating our solar plexus – the center of our willpower – through movement and fiery breathwork. Our body and mind will then be in the perfect state to receive the healing vibrations of the Gong and the Light Language. We will close the space with some tea\, snacks and sharing in circle. \n\n\n\n\n\n  \n  \n\nPractical information\nDate: Saturday\, April 9th 2022 \nTime: From 18h to 20h \nLocation: Kak’Alom\, Rue de Zurich 34\, Geneva \nPrice: 60 CHF – payment upon registration \nTo register\, please send an email at contact@delphine-blanc.com. \n  \n\n\n\n\n\n\n\n\n\n\n\n\n\n\n \n\n\n\n\n\n\n\n\n\n\n \n\n\n\n\n\n\n\n\n\n\n \n\n\n\n\n\n\n\n\n\n\n \n\n\n\n\n\n\n\n\n\n\n\n\n\n\n  \n\n\n\n\n\n\n\n\nAbout your guides for this event\n  \n\n\n\n\n\n\n\n\n\n\n\n\n\n\n\n\n\n \n\n\n\n\n\n\n\n\n\n\n\nKallia Apazoglou\n\n\n\n\n\nKallia is a Senior Researcher in Neuroscience\, a Kundalini Yoga teacher and a Gong player. She is passionate about sharing the unique blend of teachings she received and experiences she made through her Yoga classes and Gong Bath sessions. \n\n\n\n\n\n>> discover her world \n\n\n\n\n\n\n\n\n\n\n\n\n\n\n\n\n\n \n\n\n\n\n\n\n\n\n\n\n\nDelphine Blanc\n\n\n\nDelphine is an intuitive energetic healer and a trained life coach and hypnotherapist. She channels light language\, songs\, and sound healing vibrations and holds sacred space for individuals and groups.\n\n\n\n>> learn about light language \n\n\n\n\n\n\n\n\n 
URL:https://delphine-blanc.com/calendrier/ignite-your-sacred-inner-fire/
LOCATION:Kak’Alom Studio\, Rue de Zurich\, 34\, Genève\, Suisse
ATTACH;FMTTYPE=image/jpeg:https://delphine-blanc.com/wp-content/uploads/2022/06/ignite-your-sacred-inner-fire-small.jpg
END:VEVENT
END:VCALENDAR